BEGIN:VCALENDAR
VERSION:2.0
PRODID:SchoolNow
CALSCALE:GREGORIAN
BEGIN:VEVENT
UID:900d4788-f8bb-11f0-bfbb-0e9d7f1cf11d
DTSTAMP:20260421T171007Z
SUMMARY:Student Maps Due to Office
URL;VALUE=URI:https://www.latrobesd.org/calendar/8840167/student-maps-due-t
 o-office
DTSTART;VALUE=DATE:20260220
DTEND;VALUE=DATE:20260221
END:VEVENT
END:VCALENDAR
