BEGIN:VCALENDAR
VERSION:2.0
PRODID:SchoolNow
CALSCALE:GREGORIAN
BEGIN:VEVENT
UID:900d486e-f8bb-11f0-b8fb-0e9d7f1cf11d
DTSTAMP:20260421T171007Z
SUMMARY:Read for the Record 20 week end date
URL;VALUE=URI:https://www.latrobesd.org/calendar/8840168/read-for-the-recor
 d-20-week-end-date
DTSTART;VALUE=DATE:20260226
DTEND;VALUE=DATE:20260227
END:VEVENT
END:VCALENDAR
