BEGIN:VCALENDAR
VERSION:2.0
PRODID:SchoolNow
CALSCALE:GREGORIAN
BEGIN:VEVENT
UID:900d4a8a-f8bb-11f0-b722-0e9d7f1cf11d
DTSTAMP:20260421T171007Z
SUMMARY:6th FT Mosaic Museum
URL;VALUE=URI:https://www.latrobesd.org/calendar/8840170/6th-ft-mosaic-muse
 um
DTSTART;VALUE=DATE:20260313
DTEND;VALUE=DATE:20260314
END:VEVENT
END:VCALENDAR
