BEGIN:VCALENDAR
VERSION:2.0
PRODID:SchoolNow
CALSCALE:GREGORIAN
BEGIN:VEVENT
UID:900d4b70-f8bb-11f0-8569-0e9d7f1cf11d
DTSTAMP:20260421T171007Z
SUMMARY:School Site Council Meeting
URL;VALUE=URI:https://www.latrobesd.org/calendar/8840171/school-site-counci
 l-meeting
DTSTART:20260114T221500Z
DTEND:20260114T231500Z
END:VEVENT
END:VCALENDAR
