BEGIN:VCALENDAR
VERSION:2.0
PRODID:SchoolNow
CALSCALE:GREGORIAN
BEGIN:VEVENT
UID:900d4c4c-f8bb-11f0-9239-0e9d7f1cf11d
DTSTAMP:20260421T171007Z
SUMMARY:Pioneer Oral Interpretation field trip
URL;VALUE=URI:https://www.latrobesd.org/calendar/8840172/pioneer-oral-inter
 pretation-field-trip
DTSTART;VALUE=DATE:20260325
DTEND;VALUE=DATE:20260326
END:VEVENT
END:VCALENDAR
