BEGIN:VCALENDAR
VERSION:2.0
PRODID:SchoolNow
CALSCALE:GREGORIAN
BEGIN:VEVENT
UID:900d4d28-f8bb-11f0-981c-0e9d7f1cf11d
DTSTAMP:20260421T171007Z
SUMMARY:Kindness Buddy Day @ LES
URL;VALUE=URI:https://www.latrobesd.org/calendar/8840173/kindness-buddy-day
 -les
DTSTART:20260212T190000Z
DTEND:20260212T210000Z
END:VEVENT
END:VCALENDAR
