BEGIN:VCALENDAR
VERSION:2.0
PRODID:SchoolNow
CALSCALE:GREGORIAN
BEGIN:VEVENT
UID:900d4e04-f8bb-11f0-8d3a-0e9d7f1cf11d
DTSTAMP:20260421T171007Z
SUMMARY:The Science Wizard assemblies for LES and MH
URL;VALUE=URI:https://www.latrobesd.org/calendar/8840174/the-science-wizard
 -assemblies-for-les-and-mh
DTSTART:20260323T160000Z
DTEND:20260323T180000Z
END:VEVENT
END:VCALENDAR
