BEGIN:VCALENDAR
VERSION:2.0
PRODID:SchoolNow
CALSCALE:GREGORIAN
BEGIN:VEVENT
UID:900d4f1c-f8bb-11f0-ad89-0e9d7f1cf11d
DTSTAMP:20260421T171007Z
SUMMARY:LES PAWS Awards
URL;VALUE=URI:https://www.latrobesd.org/calendar/8840175/les-paws-awards
DTSTART:20260227T155500Z
DTEND:20260227T161500Z
END:VEVENT
END:VCALENDAR
