BEGIN:VCALENDAR
VERSION:2.0
PRODID:SchoolNow
CALSCALE:GREGORIAN
BEGIN:VEVENT
UID:900d5048-f8bb-11f0-83bc-0e9d7f1cf11d
DTSTAMP:20260421T110508Z
SUMMARY:6-8 River Cats FT
URL;VALUE=URI:https://www.latrobesd.org/calendar/8840176/6-8-river-cats-ft
DTSTART;VALUE=DATE:20260422
DTEND;VALUE=DATE:20260423
END:VEVENT
END:VCALENDAR
