BEGIN:VCALENDAR
VERSION:2.0
PRODID:SchoolNow
CALSCALE:GREGORIAN
BEGIN:VEVENT
UID:900d5336-f8bb-11f0-af33-0e9d7f1cf11d
DTSTAMP:20260421T171007Z
SUMMARY:SAMI Circuit event @ MH
URL;VALUE=URI:https://www.latrobesd.org/calendar/8840179/sami-circuit-event
 -mh
DTSTART:20260508T210000Z
DTEND:20260508T223000Z
END:VEVENT
END:VCALENDAR
