BEGIN:VCALENDAR
VERSION:2.0
PRODID:SchoolNow
CALSCALE:GREGORIAN
BEGIN:VEVENT
UID:900d5458-f8bb-11f0-bc4c-0e9d7f1cf11d
DTSTAMP:20260421T171007Z
SUMMARY:LES PAWS Awards
URL;VALUE=URI:https://www.latrobesd.org/calendar/8840180/les-paws-awards
DTSTART:20260515T145500Z
DTEND:20260515T151500Z
END:VEVENT
END:VCALENDAR
