BEGIN:VCALENDAR
VERSION:2.0
PRODID:SchoolNow
CALSCALE:GREGORIAN
BEGIN:VEVENT
UID:900d553e-f8bb-11f0-b86e-0e9d7f1cf11d
DTSTAMP:20260421T171007Z
SUMMARY:8th FT - Quarry Park
URL;VALUE=URI:https://www.latrobesd.org/calendar/8840181/8th-ft-quarry-park
DTSTART;VALUE=DATE:20260518
DTEND;VALUE=DATE:20260519
END:VEVENT
END:VCALENDAR
