BEGIN:VCALENDAR
VERSION:2.0
PRODID:SchoolNow
CALSCALE:GREGORIAN
BEGIN:VEVENT
UID:900d562e-f8bb-11f0-a8a5-0e9d7f1cf11d
DTSTAMP:20260421T171007Z
SUMMARY:LES PAWS Awards
URL;VALUE=URI:https://www.latrobesd.org/calendar/8840182/les-paws-awards
DTSTART:20260130T155500Z
DTEND:20260130T161500Z
END:VEVENT
END:VCALENDAR
