BEGIN:VCALENDAR
VERSION:2.0
PRODID:SchoolNow
CALSCALE:GREGORIAN
BEGIN:VEVENT
UID:90701426-f8bb-11f0-9a5d-0e9d7f1cf11d
DTSTAMP:20260421T171007Z
SUMMARY:MH Schoolwide breakfast
URL;VALUE=URI:https://www.latrobesd.org/calendar/8840183/mh-schoolwide-brea
 kfast
DTSTART:20260427T144000Z
DTEND:20260427T151000Z
END:VEVENT
END:VCALENDAR
