BEGIN:VCALENDAR
VERSION:2.0
PRODID:SchoolNow
CALSCALE:GREGORIAN
BEGIN:VEVENT
UID:90701cfa-f8bb-11f0-bc69-0e9d7f1cf11d
DTSTAMP:20260421T171007Z
SUMMARY:4-8 Guitar Class @ Rm 3
URL;VALUE=URI:https://www.latrobesd.org/calendar/8840184/4-8-guitar-class-r
 m-3
DTSTART:20260127T221000Z
DTEND:20260127T231000Z
END:VEVENT
END:VCALENDAR
