BEGIN:VCALENDAR
VERSION:2.0
PRODID:SchoolNow
CALSCALE:GREGORIAN
BEGIN:VEVENT
UID:90701f5c-f8bb-11f0-a878-0e9d7f1cf11d
DTSTAMP:20260421T171007Z
SUMMARY:4-8 Guitar Class @ Rm 3
URL;VALUE=URI:https://www.latrobesd.org/calendar/8840186/4-8-guitar-class-r
 m-3
DTSTART:20260210T221000Z
DTEND:20260210T231000Z
END:VEVENT
END:VCALENDAR
