BEGIN:VCALENDAR
VERSION:2.0
PRODID:SchoolNow
CALSCALE:GREGORIAN
BEGIN:VEVENT
UID:90702308-f8bb-11f0-a41d-0e9d7f1cf11d
DTSTAMP:20260421T171007Z
SUMMARY:4-8 Guitar Class @ Rm 3
URL;VALUE=URI:https://www.latrobesd.org/calendar/8840190/4-8-guitar-class-r
 m-3
DTSTART:20260317T211000Z
DTEND:20260317T221000Z
END:VEVENT
END:VCALENDAR
