BEGIN:VCALENDAR
VERSION:2.0
PRODID:SchoolNow
CALSCALE:GREGORIAN
BEGIN:VEVENT
UID:907023e4-f8bb-11f0-b488-0e9d7f1cf11d
DTSTAMP:20260421T171007Z
SUMMARY:4-8 Guitar Class @ Rm 3
URL;VALUE=URI:https://www.latrobesd.org/calendar/8840191/4-8-guitar-class-r
 m-3
DTSTART:20260324T211000Z
DTEND:20260324T221000Z
END:VEVENT
END:VCALENDAR
