BEGIN:VCALENDAR
VERSION:2.0
PRODID:SchoolNow
CALSCALE:GREGORIAN
BEGIN:VEVENT
UID:9070293e-f8bb-11f0-be2d-0e9d7f1cf11d
DTSTAMP:20260421T171008Z
SUMMARY:1-3 Piano @ Rm 8
URL;VALUE=URI:https://www.latrobesd.org/calendar/8840197/1-3-piano-rm-8
DTSTART:20260327T211000Z
DTEND:20260327T221000Z
END:VEVENT
END:VCALENDAR
