BEGIN:VCALENDAR
VERSION:2.0
PRODID:SchoolNow
CALSCALE:GREGORIAN
BEGIN:VEVENT
UID:90702a10-f8bb-11f0-8475-0e9d7f1cf11d
DTSTAMP:20260421T171008Z
SUMMARY:1-3 Piano @ Rm 8
URL;VALUE=URI:https://www.latrobesd.org/calendar/8840198/1-3-piano-rm-8
DTSTART:20260410T211000Z
DTEND:20260410T221000Z
END:VEVENT
END:VCALENDAR
