BEGIN:VCALENDAR
VERSION:2.0
PRODID:SchoolNow
CALSCALE:GREGORIAN
BEGIN:VEVENT
UID:90702cae-f8bb-11f0-88c7-0e9d7f1cf11d
DTSTAMP:20260421T171008Z
SUMMARY:4-8 Piano Class @ Rm 8
URL;VALUE=URI:https://www.latrobesd.org/calendar/8840200/4-8-piano-class-rm
 -8
DTSTART:20260128T221000Z
DTEND:20260128T231000Z
END:VEVENT
END:VCALENDAR
