BEGIN:VCALENDAR
VERSION:2.0
PRODID:SchoolNow
CALSCALE:GREGORIAN
BEGIN:VEVENT
UID:90702f42-f8bb-11f0-a4e0-0e9d7f1cf11d
DTSTAMP:20260421T171008Z
SUMMARY:4-8 Piano Class @ Rm 8
URL;VALUE=URI:https://www.latrobesd.org/calendar/8840203/4-8-piano-class-rm
 -8
DTSTART:20260218T221000Z
DTEND:20260218T231000Z
END:VEVENT
END:VCALENDAR
