BEGIN:VCALENDAR
VERSION:2.0
PRODID:SchoolNow
CALSCALE:GREGORIAN
BEGIN:VEVENT
UID:90905b82-f8bb-11f0-abe5-0e9d7f1cf11d
DTSTAMP:20260421T171008Z
SUMMARY:4-8 Piano Class @ Rm 8
URL;VALUE=URI:https://www.latrobesd.org/calendar/8840207/4-8-piano-class-rm
 -8
DTSTART:20260325T211000Z
DTEND:20260325T221000Z
END:VEVENT
END:VCALENDAR
