BEGIN:VCALENDAR
VERSION:2.0
PRODID:SchoolNow
CALSCALE:GREGORIAN
BEGIN:VEVENT
UID:90906122-f8bb-11f0-b862-0e9d7f1cf11d
DTSTAMP:20260421T171008Z
SUMMARY:1-4 Lego Club @ MH library
URL;VALUE=URI:https://www.latrobesd.org/calendar/8840211/1-4-lego-club-mh-l
 ibrary
DTSTART:20260325T210500Z
DTEND:20260325T220500Z
END:VEVENT
END:VCALENDAR
