BEGIN:VCALENDAR
VERSION:2.0
PRODID:SchoolNow
CALSCALE:GREGORIAN
BEGIN:VEVENT
UID:90906316-f8bb-11f0-93e0-0e9d7f1cf11d
DTSTAMP:20260421T171008Z
SUMMARY:1-4 Lego Club @ MH library
URL;VALUE=URI:https://www.latrobesd.org/calendar/8840213/1-4-lego-club-mh-l
 ibrary
DTSTART:20260415T210500Z
DTEND:20260415T220500Z
END:VEVENT
END:VCALENDAR
