BEGIN:VCALENDAR
VERSION:2.0
PRODID:SchoolNow
CALSCALE:GREGORIAN
BEGIN:VEVENT
UID:2dd9cd3a-3910-11f1-935a-0affcfebde75
DTSTAMP:20260421T110507Z
SUMMARY:SSC Meeting
URL;VALUE=URI:https://www.latrobesd.org/calendar/8996524/ssc-meeting
DTSTART:20260415T211500Z
DTEND:20260415T221500Z
END:VEVENT
END:VCALENDAR
