BEGIN:VCALENDAR
VERSION:2.0
PRODID:SchoolNow
CALSCALE:GREGORIAN
BEGIN:VEVENT
UID:2b32c158-3943-11f1-b0b3-0a58a9feac02
DTSTAMP:20260421T171007Z
SUMMARY:Track Finals @ Union Mine (times TBD)
URL;VALUE=URI:https://www.latrobesd.org/calendar/8997087/track-finals-union
 -mine-times-tbd
DTSTART:20260515T230000Z
DTEND:20260516T010000Z
END:VEVENT
END:VCALENDAR
