BEGIN:VCALENDAR
VERSION:2.0
PRODID:SchoolNow
CALSCALE:GREGORIAN
BEGIN:VEVENT
UID:2b32c450-3943-11f1-ab62-0a58a9feac02
DTSTAMP:20260421T171007Z
SUMMARY:Track Trials @ Union Mine (times TBD)
URL;VALUE=URI:https://www.latrobesd.org/calendar/8997088/track-trials-union
 -mine-times-tbd
DTSTART:20260512T230000Z
DTEND:20260513T010000Z
END:VEVENT
END:VCALENDAR
