BEGIN:VCALENDAR
VERSION:2.0
PRODID:SchoolNow
CALSCALE:GREGORIAN
BEGIN:VEVENT
UID:2b32c5a4-3943-11f1-be77-0a58a9feac02
DTSTAMP:20260421T110508Z
SUMMARY:6-8 Hangout
URL;VALUE=URI:https://www.latrobesd.org/calendar/8997089/6-8-hangout
DTSTART:20260410T210000Z
DTEND:20260410T223000Z
END:VEVENT
END:VCALENDAR
