BEGIN:VCALENDAR
VERSION:2.0
PRODID:SchoolNow
CALSCALE:GREGORIAN
BEGIN:VEVENT
UID:2b32c6f8-3943-11f1-978d-0a58a9feac02
DTSTAMP:20260421T110508Z
SUMMARY:Track Meet @ EDHS (times TBD)
URL;VALUE=URI:https://www.latrobesd.org/calendar/8997090/track-meet-edhs-ti
 mes-tbd
DTSTART:20260424T230000Z
DTEND:20260425T010000Z
END:VEVENT
END:VCALENDAR
