BEGIN:VCALENDAR
VERSION:2.0
PRODID:SchoolNow
CALSCALE:GREGORIAN
BEGIN:VEVENT
UID:2b32c84c-3943-11f1-a773-0a58a9feac02
DTSTAMP:20260421T171007Z
SUMMARY:Track Meet @ Union Mine (times TBD)
URL;VALUE=URI:https://www.latrobesd.org/calendar/8997091/track-meet-union-m
 ine-times-tbd
DTSTART:20260506T230000Z
DTEND:20260507T010000Z
END:VEVENT
END:VCALENDAR
