BEGIN:VCALENDAR
VERSION:2.0
PRODID:SchoolNow
CALSCALE:GREGORIAN
BEGIN:VEVENT
UID:2b32ca36-3943-11f1-8a83-0a58a9feac02
DTSTAMP:20260421T171007Z
SUMMARY:8th Fun Day FT
URL;VALUE=URI:https://www.latrobesd.org/calendar/8997092/8th-fun-day-ft
DTSTART:20260508T190000Z
DTEND:20260508T223000Z
END:VEVENT
END:VCALENDAR
