BEGIN:VCALENDAR
VERSION:2.0
PRODID:SchoolNow
CALSCALE:GREGORIAN
BEGIN:VEVENT
UID:2b32cb26-3943-11f1-8c7a-0a58a9feac02
DTSTAMP:20260421T110507Z
SUMMARY:LES Garden Day
URL;VALUE=URI:https://www.latrobesd.org/calendar/8997093/les-garden-day
DTSTART;VALUE=DATE:20260423
DTEND;VALUE=DATE:20260424
END:VEVENT
END:VCALENDAR
