BEGIN:VCALENDAR
VERSION:2.0
PRODID:SchoolNow
CALSCALE:GREGORIAN
BEGIN:VEVENT
UID:2b32cc34-3943-11f1-9ea2-0a58a9feac02
DTSTAMP:20260421T171007Z
SUMMARY:Book Fair previews @ MH (LES ride bus)
URL;VALUE=URI:https://www.latrobesd.org/calendar/8997094/book-fair-previews
 -mh-les-ride-bus
DTSTART;VALUE=DATE:20260511
DTEND;VALUE=DATE:20260512
END:VEVENT
END:VCALENDAR
