BEGIN:VCALENDAR
VERSION:2.0
PRODID:SchoolNow
CALSCALE:GREGORIAN
BEGIN:VEVENT
UID:2b32cd1a-3943-11f1-a936-0a58a9feac02
DTSTAMP:20260421T110507Z
SUMMARY:Spirit Day: Blue & Gold Day!
URL;VALUE=URI:https://www.latrobesd.org/calendar/8997095/spirit-day-blue-go
 ld-day
DTSTART;VALUE=DATE:20260427
DTEND;VALUE=DATE:20260428
END:VEVENT
END:VCALENDAR
