BEGIN:VCALENDAR
VERSION:2.0
PRODID:SchoolNow
CALSCALE:GREGORIAN
BEGIN:VEVENT
UID:2b32ce00-3943-11f1-b04f-0a58a9feac02
DTSTAMP:20260421T171007Z
SUMMARY:LES Garden Day
URL;VALUE=URI:https://www.latrobesd.org/calendar/8997096/les-garden-day
DTSTART;VALUE=DATE:20260514
DTEND;VALUE=DATE:20260515
END:VEVENT
END:VCALENDAR
