BEGIN:VCALENDAR
VERSION:2.0
PRODID:SchoolNow
CALSCALE:GREGORIAN
BEGIN:VEVENT
UID:2b32cee6-3943-11f1-8582-0a58a9feac02
DTSTAMP:20260421T171007Z
SUMMARY:Open House and Book Fair
URL;VALUE=URI:https://www.latrobesd.org/calendar/8997097/open-house-and-boo
 k-fair
DTSTART:20260515T000000Z
DTEND:20260515T020000Z
END:VEVENT
END:VCALENDAR
