BEGIN:VCALENDAR
VERSION:2.0
PRODID:SchoolNow
CALSCALE:GREGORIAN
BEGIN:VEVENT
UID:2b32cff4-3943-11f1-9659-0a58a9feac02
DTSTAMP:20260421T171007Z
SUMMARY:8th Grade Promotion on the Grass
URL;VALUE=URI:https://www.latrobesd.org/calendar/8997098/8th-grade-promotio
 n-on-the-grass
DTSTART:20260521T163000Z
DTEND:20260521T173000Z
END:VEVENT
END:VCALENDAR
