BEGIN:VCALENDAR
VERSION:2.0
PRODID:SchoolNow
CALSCALE:GREGORIAN
BEGIN:VEVENT
UID:2b32d0da-3943-11f1-be37-0a58a9feac02
DTSTAMP:20260421T110507Z
SUMMARY:TK/K Dental Screening
URL;VALUE=URI:https://www.latrobesd.org/calendar/8997099/tk-k-dental-screen
 ing
DTSTART:20260421T163000Z
DTEND:20260421T180000Z
END:VEVENT
END:VCALENDAR
