BEGIN:VCALENDAR
VERSION:2.0
PRODID:SchoolNow
CALSCALE:GREGORIAN
BEGIN:VEVENT
UID:2b32d1b6-3943-11f1-9312-0a58a9feac02
DTSTAMP:20260421T110508Z
SUMMARY:8th FT Rail Explorers
URL;VALUE=URI:https://www.latrobesd.org/calendar/8997100/8th-ft-rail-explor
 ers
DTSTART:20260417T170000Z
DTEND:20260417T190000Z
END:VEVENT
END:VCALENDAR
