BEGIN:VCALENDAR
VERSION:2.0
PRODID:SchoolNow
CALSCALE:GREGORIAN
BEGIN:VEVENT
UID:2b32d2b0-3943-11f1-b8c9-0a58a9feac02
DTSTAMP:20260421T110507Z
SUMMARY:Track Meet @ Ponderosa (times TBD)
URL;VALUE=URI:https://www.latrobesd.org/calendar/8997101/track-meet-pondero
 sa-times-tbd
DTSTART:20260428T230000Z
DTEND:20260429T010000Z
END:VEVENT
END:VCALENDAR
