BEGIN:VCALENDAR
VERSION:2.0
PRODID:SchoolNow
CALSCALE:GREGORIAN
BEGIN:VEVENT
UID:2b32d512-3943-11f1-9cf2-0a58a9feac02
DTSTAMP:20260421T110508Z
SUMMARY:TK-5 FAME
URL;VALUE=URI:https://www.latrobesd.org/calendar/8997102/tk-5-fame
DTSTART;VALUE=DATE:20260422
DTEND;VALUE=DATE:20260423
END:VEVENT
END:VCALENDAR
