BEGIN:VCALENDAR
VERSION:2.0
PRODID:SchoolNow
CALSCALE:GREGORIAN
BEGIN:VEVENT
UID:2b32d616-3943-11f1-a1cf-0a58a9feac02
DTSTAMP:20260421T110508Z
SUMMARY:MH Slushie Day
URL;VALUE=URI:https://www.latrobesd.org/calendar/8997103/mh-slushie-day
DTSTART:20260424T193000Z
DTEND:20260424T200000Z
END:VEVENT
END:VCALENDAR
