BEGIN:VCALENDAR
VERSION:2.0
PRODID:SchoolNow
CALSCALE:GREGORIAN
BEGIN:VEVENT
UID:2b32d6fc-3943-11f1-898f-0a58a9feac02
DTSTAMP:20260421T171007Z
SUMMARY:TK FAME
URL;VALUE=URI:https://www.latrobesd.org/calendar/8997104/tk-fame
DTSTART;VALUE=DATE:20260513
DTEND;VALUE=DATE:20260514
END:VEVENT
END:VCALENDAR
