BEGIN:VCALENDAR
VERSION:2.0
PRODID:SchoolNow
CALSCALE:GREGORIAN
BEGIN:VEVENT
UID:2b32d7d8-3943-11f1-a7b5-0a58a9feac02
DTSTAMP:20260421T171007Z
SUMMARY:4/5 Field Day @ MH
URL;VALUE=URI:https://www.latrobesd.org/calendar/8997105/4-5-field-day-mh
DTSTART:20260520T160000Z
DTEND:20260520T190000Z
END:VEVENT
END:VCALENDAR
