BEGIN:VCALENDAR
VERSION:2.0
PRODID:SchoolNow
CALSCALE:GREGORIAN
BEGIN:VEVENT
UID:2b32d8be-3943-11f1-a8c5-0a58a9feac02
DTSTAMP:20260421T171007Z
SUMMARY:2nd Grade Free Day
URL;VALUE=URI:https://www.latrobesd.org/calendar/8997106/2nd-grade-free-day
DTSTART;VALUE=DATE:20260515
DTEND;VALUE=DATE:20260516
END:VEVENT
END:VCALENDAR
