BEGIN:VCALENDAR
VERSION:2.0
PRODID:SchoolNow
CALSCALE:GREGORIAN
BEGIN:VEVENT
UID:2b32da12-3943-11f1-bff7-0a58a9feac02
DTSTAMP:20260421T171007Z
SUMMARY:2nd/3rd Farm Day @ fairgrounds
URL;VALUE=URI:https://www.latrobesd.org/calendar/8997107/2nd-3rd-farm-day-f
 airgrounds
DTSTART;VALUE=DATE:20260505
DTEND;VALUE=DATE:20260506
END:VEVENT
END:VCALENDAR
