BEGIN:VCALENDAR
VERSION:2.0
PRODID:SchoolNow
CALSCALE:GREGORIAN
BEGIN:VEVENT
UID:2b32dbac-3943-11f1-99a0-0a58a9feac02
DTSTAMP:20260421T171007Z
SUMMARY:Spirit Day: Jungle Day!
URL;VALUE=URI:https://www.latrobesd.org/calendar/8997108/spirit-day-jungle-
 day
DTSTART;VALUE=DATE:20260511
DTEND;VALUE=DATE:20260512
END:VEVENT
END:VCALENDAR
