BEGIN:VCALENDAR
VERSION:2.0
PRODID:SchoolNow
CALSCALE:GREGORIAN
BEGIN:VEVENT
UID:2b32dcb0-3943-11f1-8641-0a58a9feac02
DTSTAMP:20260421T171007Z
SUMMARY:5th Grade Reader's Theater
URL;VALUE=URI:https://www.latrobesd.org/calendar/8997109/5th-grade-readers-
 theater
DTSTART:20260518T201500Z
DTEND:20260518T210000Z
END:VEVENT
END:VCALENDAR
