BEGIN:VCALENDAR
VERSION:2.0
PRODID:SchoolNow
CALSCALE:GREGORIAN
BEGIN:VEVENT
UID:2b32ddd2-3943-11f1-b18a-0a58a9feac02
DTSTAMP:20260421T171007Z
SUMMARY:LES Water Day
URL;VALUE=URI:https://www.latrobesd.org/calendar/8997110/les-water-day
DTSTART:20260519T200000Z
DTEND:20260519T210000Z
END:VEVENT
END:VCALENDAR
